BEGIN:VCALENDAR
VERSION:2.0
METHOD:PUBLISH
BEGIN:VEVENT
UID:WILD_APRICOT_EVENT_2791828_SESSION_1
DTSTART:20180215T083000Z
DTEND:20180215T103000Z
SUMMARY:AS Adults Peer Group Meeting
LOCATION:The Nerve Centre\, 54 Railway Avenue\, Blackburn Vic 3130
DESCRIPTION:https://aspergersvic.org.au/event-2791828\n\nAdults Peer Group Meeting \n  Thursday\, 15th February 2018\n  Come along and join us for a relaxing get together with like-minded adults discussing topics of interest.\n\n  This event is for Adults Peer Group attendees only.  It may be most suitable for those who are aged 30 years and over\, although younger adults may still attend if they wish to.  (Young adults may prefer to attend the Young Adults meetings for those aged 18-35 years).\n\n                 Time:         7:30 - 9:30 pm - Doors open for registration at 7:30 pm and close at 10 pm.                   Topic:        Diagnosis Considerations\n           Aspergers Victoria volunteers with lived experience run all meetings and welcome new attendees. \n  This group is for Aspergers Victoria members only. However you are welcome to attend one meeting before joining.\n  This page is for booking places only.\n  Please Note: \n      * Bookings close at 7:30 pm on Wednesday 14th February.\n\n\n        * If you have any further queries about the booking procedures or have missed the booking deadline\, please email admin@aspergersvic.org.au \n\n\n  Contact Details:  Colin Picthall asadults@aspergersvic.org.au\n
DTSTAMP:20260424T162956Z
END:VEVENT
END:VCALENDAR
