BEGIN:VCALENDAR
VERSION:2.0
METHOD:PUBLISH
BEGIN:VEVENT
UID:WILD_APRICOT_EVENT_2809763_SESSION_1
DTSTART:20180803T000000Z
DTEND:20180803T020000Z
SUMMARY:Eastern Parents & Carers Peer Group Meeting
LOCATION:Salvation Army hall\, rear of 45-53 Wantirna Rd\, Ringwood Vic 3134
DESCRIPTION:https://aspergersvic.org.au/event-2809763\n\n\n\n  This group is a place for Parents\, Grandparents and Carers (of a person with Aspergers or High Functioning Autism) to meet\, share their experiences and support each other. \n  We have a range of parents who attend\, who have children of varying ages from toddlers through to young adults. The group is structured/facilitated to allow opportunity for all attendees to talk if they wish.  Attendance varies from month to month\, and it's great to talk to others who have been through similar challenges. \n  THIS MONTH:  Our Groups Co-ordinator\, Gayle will lead the session and she will be introducing an interesting discussion topic in mental health:  The Cassandra Phenomenon.\n  Join us to learn more about this intriguing topic and contribute your experiences of it (if you wish to).\n
DTSTAMP:20260424T161627Z
END:VEVENT
END:VCALENDAR
