BEGIN:VCALENDAR
VERSION:2.0
METHOD:PUBLISH
BEGIN:VEVENT
UID:WILD_APRICOT_EVENT_2809766_SESSION_1
DTSTART:20180907T000000Z
DTEND:20180907T020000Z
SUMMARY:Eastern Parents & Carers Peer Group Meeting
LOCATION:Salvation Army hall\, rear of 45-53 Wantirna Rd\, Ringwood Vic 3134
DESCRIPTION:https://aspergersvic.org.au/event-2809766\n\nEastern Parents & Carers Peer Group Meeting\n  "Simple Self-Care Techniques - How to Ensure we have energy\, space and resilience to deal with everyday life" \n  Friday 7 September 2018\n  \n\n  This group is a place for Parents\, Grandparents and Carers (of a person with Aspergers or High Functioning Autism) to meet\, share their experiences and support each other. \n  We have a range of parents who attend\, who have children of varying ages from toddlers through to young adults. The group is structured/facilitated to allow opportunity for all attendees to talk if they wish. \n  This month\, Gayle will talk about:  Simple Self-Care techniques.  With the goal to ensure that we have the energy\, space and resilience to deal with everyday life. \n\n
DTSTAMP:20260424T182935Z
END:VEVENT
END:VCALENDAR
