BEGIN:VCALENDAR
VERSION:2.0
METHOD:PUBLISH
BEGIN:VEVENT
UID:WILD_APRICOT_EVENT_2809774_SESSION_1
DTSTART:20181206T230000Z
DTEND:20181207T010000Z
SUMMARY:Eastern Parents & Carers Peer Group Meeting
LOCATION:Salvation Army hall\, rear of 45-53 Wantirna Rd\, Ringwood Vic 3134
DESCRIPTION:https://aspergersvic.org.au/event-2809774\n\nEastern Parents & Carers Peer Group Meeting\n  \n\n  This group is a place for Parents\, Grandparents and Carers (of a person with Aspergers or High Functioning Autism) to meet\, share their experiences and support each other. \n  We have a range of parents who attend\, who have children of varying ages from toddlers through to young adults. The group is structured/facilitated to allow opportunity for all attendees to talk if they wish. \n  Some months are focused on a topic of interest. Attendance varies from month to month\, and it's great to talk to others who have been through similar challenges. \n  Cost:  Free to Aspergers Victoria members\, or first time attendees doing a trial.\n
DTSTAMP:20260424T160351Z
END:VEVENT
END:VCALENDAR
