BEGIN:VCALENDAR
VERSION:2.0
METHOD:PUBLISH
BEGIN:VEVENT
UID:WILD_APRICOT_EVENT_2817064_SESSION_1
DTSTART:20180405T093000Z
DTEND:20180405T113000Z
SUMMARY:Partners Peer Group Meeting
LOCATION:Eastern Suburbs
DESCRIPTION:https://aspergersvic.org.au/event-2817064\n\nOur AV Partners Support Group Meetings are for adults who have (or have had) partners on the autism spectrum.  Couples may be formally diagnosed or not\; co-habiting or not. \n  These meetings allow us to share experiences\, offer peer support & gain information.\n\n  The group also often organises enjoyable in-house activities. \n  If you are interested in attending this group\, please contact the leader to find out more at partners@aspergersvic.org.au or our groups assistant at admin@aspergersvic.org.au\n      \n\n \n
DTSTAMP:20260424T163433Z
END:VEVENT
END:VCALENDAR
