BEGIN:VCALENDAR
VERSION:2.0
METHOD:PUBLISH
BEGIN:VEVENT
UID:WILD_APRICOT_EVENT_2897382_SESSION_1
DTSTART:20180419T093000Z
DTEND:20180419T113000Z
SUMMARY:AS Adults Peer Group Meeting
LOCATION:The Nerve Centre\, 54 Railway Avenue\, Blackburn Vic 3130
DESCRIPTION:https://aspergersvic.org.au/event-2897382\n\nAdults Peer Group Meeting \n  Thursday\, 19th April 2018\n\n  Come along and join us for a relaxing get together with like-minded adults discussing topics of interest.\n\n  This event is for Adults Peer Group attendees only.  It may be most suitable for those who are aged 35 years and over\, although younger adults may still attend if they wish to.  (Young adults may prefer to attend the Young Adults meetings for those aged 18-35 years).\n\n                 Time:         7:30 - 9:30 pm - Doors open for registration at 7:30pm and close at 10 pm.                   Topic:         To be advised           Aspergers Victoria volunteers with lived experience run all meetings and welcome new attendees. \n  This group is for Aspergers Victoria members only. However you are welcome to attend one meeting before joining.\n  This page is for booking places only.\n  Please Note: \n      * Bookings close at 7:30 pm on Wednesday 18th April.\n\n\n        * If you have any further queries about the booking procedures or have missed the booking deadline\, please email admin@aspergersvic.org.au \n\n\n  Contact Details:  Colin Picthall asadults@aspergersvic.org.au\n  \n\n
DTSTAMP:20260424T162936Z
END:VEVENT
END:VCALENDAR
