BEGIN:VCALENDAR
VERSION:2.0
METHOD:PUBLISH
BEGIN:VEVENT
UID:WILD_APRICOT_EVENT_2969149_SESSION_1
DTSTART:20180622T000000Z
DTEND:20180622T020000Z
SUMMARY:Southern Parents & Carers Peer Group Meeting
LOCATION:456 North Rd\, Ormond Vic 3204 (Upstairs)
DESCRIPTION:https://aspergersvic.org.au/event-2969149\n\nSouthern Group Parents & Carers Peer Group Morning\n  Friday 22nd June\, 10 A.M.\n  \n\n  This group is a place for Parents\, Grandparents and Carers (of a person with Aspergers or High Functioning Autism) to meet\, share their experiences and support each other. \n\n  We have a range of parents who attend\, who have children of varying ages from toddlers through to young adults. The group is structured/facilitated to allow opportunity for all attendees to talk if they wish. \n  Some months are focused on a topic of interest. Attendance varies from month to month\, and it's great to talk to others who have been through similar challenges. \n  The building lies on North Rd\, between Wheatley Rd & Queen St. Parking is available in these streets. Please do not park in the driveway as it is for the office workers only. Come straight in\, up the stairs & you'll find us.\n\n
DTSTAMP:20260424T164338Z
END:VEVENT
END:VCALENDAR
