BEGIN:VCALENDAR
VERSION:2.0
METHOD:PUBLISH
BEGIN:VEVENT
UID:WILD_APRICOT_EVENT_3009274_SESSION_1
DTSTART:20180830T093000Z
DTEND:20180830T113000Z
SUMMARY:AS Adults Peer Group Meeting
LOCATION:The Nerve Centre\, 54 Railway Avenue\, Blackburn Vic 3130
DESCRIPTION:https://aspergersvic.org.au/event-3009274\n\nAdults Peer Group Meeting \n  Thursday\, 30th August\, 2018\n\n  ****Note: Group shifted to 5th Thursday for this month only*****\n  \n\n  Come along and join us for a relaxing get together with like-minded adults discussing topics of interest.\n\n  This event is for Adults Peer Group attendees only.  It may be most suitable for those who are aged 30 years and over\, although younger adults may still attend if they wish to.  (Young adults may prefer to attend the Young Adults meetings for those aged 18-35 years).\n\n                 \n       Time:         \n       7:30 - 9:30 pm - Doors open for registration at 7:30pm and close at 10 p.m.\n       \n                   \n       Topic:         T.B.A.           Aspergers Victoria volunteers with lived experience run all meetings and welcome new attendees. \n  This group is for Aspergers Victoria members only. However you are welcome to attend one meeting before joining.\n  This page is for booking places only.\n  Please Note: \n      * Bookings close at 7:30 pm on Wednesday 29th August\, 2018.\n\n\n        * If you have any further queries about the booking procedures or have missed the booking deadline\, please email admin@aspergersvic.org.au \n\n\n  Contact Details:  Colin Pickthall asadults@aspergersvic.org.au\n  Getting There:  The Nerve Centre is located near the Blackburn Railway station.  Approx 5 minutes walk. There is also plenty of car parking\, in nearby streets and in the Nerve Centre car park in the evenings. \n
DTSTAMP:20260424T164725Z
END:VEVENT
END:VCALENDAR
