BEGIN:VCALENDAR
VERSION:2.0
METHOD:PUBLISH
BEGIN:VEVENT
UID:WILD_APRICOT_EVENT_3040344_SESSION_1
DTSTART:20180824T000000Z
DTEND:20180824T020000Z
SUMMARY:Southern Parents & Carers Peer Group Meeting
LOCATION:456 North Rd\, Ormond Vic 3204 (Upstairs)
DESCRIPTION:https://aspergersvic.org.au/event-3040344\n\nSouthern Group Parents & Carers Peer Group Morning\n  Friday 24th August\, 10 A.M.\n  \n\n  This group is a place for Parents\, Grandparents and Carers (of a person with Aspergers or High Functioning Autism) to meet\, share their experiences and support each other. \n\n  We have a range of parents who attend\, who have children of varying ages from toddlers through to young adults. The group is structured/facilitated to allow opportunity for all attendees to talk if they wish. \n                 Discussion Topic:         Issues with NDIS (guest speaker)\n       \n                   Preparation:         Please send through questions prior to meeting. This will allow time for researching answers\n       \n           Attendance varies from month to month\, and it's great to talk to others who have been through similar challenges. \n\n  The building lies on North Rd\, between Wheatley Rd & Queen St. Parking is available in these streets. Please do not park in the driveway as it is for the office workers only. Come straight in\, up the stairs & you'll find us.\n\n
DTSTAMP:20260424T183031Z
END:VEVENT
END:VCALENDAR
