BEGIN:VCALENDAR
VERSION:2.0
METHOD:PUBLISH
BEGIN:VEVENT
UID:WILD_APRICOT_EVENT_3063457_SESSION_1
DTSTART:20180927T093000Z
DTEND:20180927T113000Z
SUMMARY:Young Adults Peer Group Meeting
LOCATION:The Ms Nerve Centre\, 54 Railway Rd\, Blackburn Vic 3130
DESCRIPTION:https://aspergersvic.org.au/event-3063457\n\nYoung Adults Peer Group Meeting \n  Thursday\, 27 September\, 2018\, 7:30 - 9:30 p.m.\n  Trivia Night\n  \n\n  Come along and join the young adults in a night of fun and laughter with questions that only Aspies can answer!  There will be prizes for your effort and participation and even if you win!!  \n      * This event is for Young Adults Peer Group attendees only\, who are between the ages of 18-35 years (18 yr olds must be no longer attending secondary school).  \n\n      * It is fine for parent/friend to drop off attendees\, however only the Young Adult is allowed in to the meeting room\, it is a parent/carer-free zone.   New attendees will be made to feel comfortable and welcome by our peer leaders and build their independence. \n\n                 Time:         7:30 - 9:30 pm - Doors open for registration at 7:10 pm and close    at 10 pm.\n       \n                   \n       Activity:        Trivia Night\n       \n                   \n       What to Bring:\n       \n                 Your knowledge of music\, film\, sport\, science\, history and politics!           Don’t worry if you haven’t any because most of the questions just need Aspie logic to get the right answer!!\n                  \n\n  What Happens on the Night?\n      * Attendees arrive and check in at the door.  Doors will be open from 7.10 pm.\n\n        * Aspergers Victoria volunteers with lived experience run the all meetings and will welcome you and answer any question you may have (especially if you're new).  \n\n\n        * At 7.30 the group will gather for the discussion.  \n\n        * At around 9 p.m.\, the group will finish up their session and enjoy some refreshments together (e.g. cup of tea/coffee/water and biscuits).\n\n        * Around 9:30 p.m. the meeting packs up and everyone heads home soon after. \n\n  This group is for Aspergers Victoria members only. However you are welcome to attend one meeting to try before joining. We welcome your feedback.\n  Getting There:  If driving\, free parking is available on site or in surrounding streets.  By Public Trasport:  Take the Lilydale or Belgrave line train to Blackburn\, or various bus routes service the station. The Nerve Centre is a few minutes walk up Chapel Street (Blackburn Rd) to corner of Station St/Blackburn Rd. \n  This page is for booking places to this event only.\n\n  Please Note: \n      * Bookings close at 7:30 pm on Wednesday 26th September\n\n\n        * If you have any further queries about the booking procedures or have missed the booking deadline\, please contact us on email address below.\n\n\n  Contact Details:  Young Adults Team youngadults@aspergersvic.org.au\n\n  Gayle Vermont\, Groups Co-Ordinator\, groups@aspergersvic.org.au 0412 113 105.\n
DTSTAMP:20260424T164634Z
END:VEVENT
END:VCALENDAR
