BEGIN:VCALENDAR
VERSION:2.0
METHOD:PUBLISH
BEGIN:VEVENT
UID:WILD_APRICOT_EVENT_3104886_SESSION_1
DTSTART:20181129T083000Z
DTEND:20181129T103000Z
SUMMARY:AS Adults End of Year Social Group Meeting
LOCATION:The Nerve Centre\, 54 Railway Avenue\, Blackburn Vic 3130
DESCRIPTION:https://aspergersvic.org.au/event-3104886\n\nAdults End of Year Social Night\n  \n\n  Come along and join us for a social get together and snacks with like-minded adults\, to celebrate nearing the end of 2018! This will be our last gathering for the year\n\n  This event is for existing Adults Peer Group attendees only.  It may be most suitable for those who are aged 30 years and over\, although younger adults may still attend if they wish to.  (Young adults may prefer to attend the Young Adults meetings for those aged 18-35 years).\n\n  Aspergers Victoria volunteers with lived experience run all meetings and welcome new attendees. \n  This group is for Aspergers Victoria members only. However you are welcome to attend one meeting before joining.\n  This page is for booking places only.\n  Please Note: If you have any further queries about the booking procedures or have missed the booking deadline\, please email admin@aspergersvic.org.au \n  Contact Details:  Colin Pickthall asadults@aspergersvic.org.au\n  Getting There:  The Nerve Centre is located near the Blackburn Railway station.  Approx 5 minutes walk. There is also plenty of car parking\, in nearby streets and in the Nerve Centre car park in the evenings. \n
DTSTAMP:20260424T164437Z
END:VEVENT
END:VCALENDAR
