BEGIN:VCALENDAR
VERSION:2.0
METHOD:PUBLISH
BEGIN:VEVENT
UID:WILD_APRICOT_EVENT_3106083_SESSION_1
DTSTART:20181121T080000Z
DTEND:20181121T103000Z
SUMMARY:Annual General Meeting & Celebration
LOCATION:The Nerve Centre\, 54 Railway Avenue\, Blackburn Vic 3130
DESCRIPTION:https://aspergersvic.org.au/event-3106083\n\n\n\n  Annual General Meeting & Celebration\n  Wednesday\, 21st November\, 2018\, 7pm\n\n  \n\n  Members are invited to join us for Aspergers Victoria Annual General Meeting.\n  The AGM will be followed by a celebration of our groups' achievements over the year\, as well some performances by our wonderful members !\n  This is a free event to thank our members for their support this year\, however we ask that you still register (on this page)\, so we know numbers for catering and seating arrangements. Donations will be also welcomed on the night. \n  To attend the AGM\, you must be a member of Aspergers Victoria. Go to our Join Us page to purchase a membership if you wish to attend and get involved.\n  View Notice & Agenda for Annual General Meeting (pdf)\n                 \n       Time:         \n       7:00 - 9:30 pm - Doors open for registration at 6.30 pm \n       \n                   \n       Cost:        \n       Free.  Donations welcome on the night.\n       \n           Please Note:\n      * The audited financial statements will be sent to members prior to the AGM for review.  We ask that\, where possible\, you submit any questions regarding the Treasurer's report before the meeting day to allow time to prepare a response at treasurer@aspergersvic.org.au\n\nContact Details:  Booking queries: admin@aspergersvic.org.au  or Financial Statement questions:  treasurer@aspergersvic.org.au  Getting There:  The Nerve Centre is located near the Blackburn Railway station.  Approx 5 minutes walk. There is also plenty of car parking\, in nearby streets and in the Nerve Centre car park in the evenings. \n
DTSTAMP:20260424T164644Z
END:VEVENT
END:VCALENDAR
