BEGIN:VCALENDAR
VERSION:2.0
METHOD:PUBLISH
BEGIN:VEVENT
UID:WILD_APRICOT_EVENT_3108137_SESSION_1
DTSTART:20181025T081000Z
DTEND:20181025T103000Z
SUMMARY:AV Young Adults Mini Peer Group Meeting
LOCATION:The Ms Nerve Centre\, 54 Railway Rd\, Blackburn Vic 3130
DESCRIPTION:https://aspergersvic.org.au/event-3108137\n\nYoung Adults Mini Peer Group Meeting \n  Thursday\, 25th October\,  2018\n  Informal Board Games Night\n  \n\n  In addition to the main Young Adults Group for this month\, which is on the following night\, Gayle (Groups Co-Ordinator) will be at the Nerve Centre also on this night.  \n  This is to cater for anyone who comes along on the Thursday night and hasn't seen the communcations about the combined group and after request from a couple of people. \n  So if you would like to join a smaller informal group on this night\, just for Young Adults\, you are welcome to come and join us for a chat and a few board games.  \n\n      * This event is for Young Adults Peer Group attendees only\, who are between the ages of 18-35 years (18 yr olds must be no longer attending secondary school).  \n\n      * It is fine for parent/friend to drop off attendees\, however only the Young Adult is allowed in to the meeting room\, it is a parent/carer-free zone.   New attendees will be made to feel comfortable and welcome by our peer leaders and build their independence. \n\n                 Time:         7:30 - 9:00 pm - Doors open for registration at 7:10 pm and close    at 9.30 pm.\n       \n                   \n       Activity        \n        Board Games Night and chat\n       \n                   \n       What to Bring:\n       \n        You don't have to bring anything\, but if you want to bring your favorite board game\, feel free (if you have one!)           This group is for Aspergers Victoria members only. However you are welcome to attend one meeting before joining.\n\n  Getting There:  If driving\, free parking is available on site or in surrounding streets.  By Public Transport:  Take the Lilydale or Belgrave line train to Blackburn\, or various bus routes service the station. The Nerve Centre is a few minutes walk up Chapel Street (Blackburn Rd) to corner of Station St/Blackburn Rd. \n      * Contact Details:  Young Adults Team admin@aspergersvic.org.au\n\n\n
DTSTAMP:20260424T164602Z
END:VEVENT
END:VCALENDAR
