BEGIN:VCALENDAR
VERSION:2.0
METHOD:PUBLISH
BEGIN:VEVENT
UID:WILD_APRICOT_EVENT_3120080_SESSION_1
DTSTART:20181119T073000Z
DTEND:20181119T093000Z
SUMMARY:AV Adult Women's 20+ Group
LOCATION:The Nerve Centre\, 54 Railway Avenue\, Blackburn Vic 3130
DESCRIPTION:https://aspergersvic.org.au/event-3120080\n\nAdult Women's 20+ Group \n  \n\n  Following a very successful inaugural meeting in September\, it seemed time for Aspergers women to catch up again!\n\n  Calling all Aspie women aged 20+ who would like to meet other Aspie women and chat.\n  It was really illuminating what issues arose at the last meeting and how the group provided advice and insights on being an Aspie woman.\n  This group is for Aspergers Victoria members only. However you are welcome to attend one meeting before joining.\n\nContact Details:  Gayle Vermont groups@aspergersvic.org.au 0412 113 105  Getting There:  The Nerve Centre is located near the Blackburn Railway station.  Approx 5 minutes walk. There is also plenty of car parking\, in nearby streets and in the Nerve Centre car park in the evenings. \n\n
DTSTAMP:20260424T164544Z
END:VEVENT
END:VCALENDAR
