BEGIN:VCALENDAR
VERSION:2.0
METHOD:PUBLISH
BEGIN:VEVENT
UID:WILD_APRICOT_EVENT_3138979_SESSION_1
DTSTART:20181122T230000Z
DTEND:20181123T010000Z
SUMMARY:Southern Parents & Carers Peer Group Meeting
LOCATION:456 North Rd\, Ormond Vic 3204 (Upstairs)
DESCRIPTION:https://aspergersvic.org.au/event-3138979\n\nSouthern Group Parents & Carers Peer Group Morning\n  Friday 23rd November\, 10 A.M.\n  \n\n  This group is a place for Parents\, Grandparents and Carers (of a person with Aspergers or High Functioning Autism) to meet\, share their experiences and support each other. \n\n  We have a range of parents who attend\, who have children of varying ages from toddlers through to young adults. The group is structured/facilitated to allow opportunity for all attendees to talk if they wish. \n                 Discussion Topic:                  No particular topic\, just an end of year celebration!          We will go around the table as usual and encourage new people to tell us their story\,\n          Goodies provided!\n                  Attendance varies from month to month\, and it's great to talk to others who have been through similar challenges. \n\n  The building lies on North Rd\, between Wheatley Rd & Queen St. Parking is available in these streets. Please do not park in the driveway as it is for the office workers only. Come straight in\, up the stairs & you'll find us.\n\n
DTSTAMP:20260424T164241Z
END:VEVENT
END:VCALENDAR
