BEGIN:VCALENDAR
VERSION:2.0
METHOD:PUBLISH
BEGIN:VEVENT
UID:WILD_APRICOT_EVENT_3198894_SESSION_1
DTSTART:20190207T083000Z
DTEND:20190207T103000Z
SUMMARY:Partners Peer Group Meeting
LOCATION:Taco Bills Mexican Restaurant\, 73 Railway Rd\, Blackburn VIC 3130
DESCRIPTION:https://aspergersvic.org.au/event-3198894\n\nPartners Peer Group Meeting\n  \n\n  This month we are meeting at Taco Bills Blackburn\, as we no longer have the Nerve Centre available to us. A new venue is organized. Come along for some dinner/snack or just a drink if you prefer. There will be a new regular monthly meeting venue from March onwards. Leaders Joy and Prue will tell you about this on the night. \n  Our AV Partners Support Group Meetings are for adults who have (or have had) partners with Aspergers or on the autism spectrum.  Couples may be formally diagnosed or not\; co-habiting or not. \n  These meetings allow us to share experiences\, offer peer support & gain information.The group also often organises enjoyable in-house activities. \n  Getting There:  If driving\, free parking is available on site or in surrounding streets.  By Public Trasport:  Take the Belgrave/Lilydale line train to Blackburn station. Or various bus routes service the station. Taco Bills is an approximately a 3 minute walk from the station. \nFor more information please contact partners@aspergersvic.org.au or our groups assistant at admin@aspergersvic.org.au      \n 
DTSTAMP:20260424T164705Z
END:VEVENT
END:VCALENDAR
