BEGIN:VCALENDAR
VERSION:2.0
METHOD:PUBLISH
BEGIN:VEVENT
UID:WILD_APRICOT_EVENT_3221896_SESSION_1
DTSTART:20190215T080000Z
DTEND:20190215T100000Z
SUMMARY:Teen Girls Peer Mentor Group
LOCATION:Power Neighbourhood House\, 54 Power Ave\, Ashwood Vic 3147
DESCRIPTION:https://aspergersvic.org.au/event-3221896\n\n"Social Butterflies" Group\n  Teen Girls Social Group\n  \n\n  Pizza\, games and lots of chatting.  Come and have some fun on Friday 15th February\, from 7pm to 9pm at Power Neighbourhood House.  Meet our peer mentors\, Veronica\, Sunny and Georgia who are always up for a chat.\n  This group was initiated and designed by our peer mentors\, as a space where girls can get together and share ideas and experiences.  It is for ages 12 to 18 as an extension of our teens group.  \n  Costs:   Members $15.00\; Non-Members $25.00  includes pizza and bottled water. \n  Aspergers Victoria volunteers with lived experience run all meetings and welcome new families. All group leaders have a Working With Children Check.  Refer to our Groups page for more information. \n  Our teen attendees should be independent in a group setting\, with no carers in the Teen group.  Our Teen group and peer leaders are very encouraging and welcoming with their peers.. \n\n  If you are not a member you can come try the group and then join Aspergers Victoria at https://aspergersvic.org.au/join-us\n  Please Note: A parent or carer is required to stay on the premises.  You are invited to join the other parents to catch up on your month in another area nearby.\n  We would welcome a tax deductible donation to support further training of our peer leaders and other volunteers.\n  Getting There:   There is street parking or parking at Power Neighbourhood House car park is also fine. The venue is approximately 10 minutes' walk from Homeglen station\, which is serviced by the Glen Waverley line and various bus e.g 903.. \n  Contact Details:    Gayle Vermont\, Groups Co-Ordinator\, groups@aspergersvic.org.au\n                                 0412 113 105.\n
DTSTAMP:20260424T164349Z
END:VEVENT
END:VCALENDAR
