BEGIN:VCALENDAR
VERSION:2.0
METHOD:PUBLISH
BEGIN:VEVENT
UID:WILD_APRICOT_EVENT_3305641_SESSION_1
DTSTART:20190328T080000Z
DTEND:20190328T110000Z
SUMMARY:Young Adults Peer Group Meeting
LOCATION:Power Neighbourhood House\, 54 Power Ave Ashwood Vic 3147
DESCRIPTION:https://aspergersvic.org.au/event-3305641\n\nYoung Adults Peer Group Meeting \n  Social Night\n  \n\n  Come and join the Young Adults social group’s house warming for our new location.  Aspergers Victoria have moved from the Nerve Centre (because it is being sold) and is now house sharing at the Power Neighbourhood House until Aspergers Victoria can find a larger and more suitable permanent location. \n  \\We will be having a Sausage Sizzle\, nibbles\, drinks\, games\, music and lots of fun.\n      *             This event is for Young Adults who are between the ages of 18-35 years.          \n\n        *             This is a parent/carer-free zone. \n        \n\n        *             New attendees will be made to feel comfortable and welcome by our peer leaders so please let us know if you are new. \n        \n\n       Cost:  $5 for AV Members\, $10 for Non-Members. Includes a bbq dinner and drinks (water & soft drinks only). Gluten free and vegan options provided.  \n   What Happens on the Night? Aspergers Victoria volunteers with lived experience run the meetings and will welcome you and answer any question you may have (especially if you're new).  .  Nibbles will be available on arrival. You can join in whatever game or conversation takes your interest. Then the bbq will be provided and more games\, drinks and music to follow!\n  This group is for Aspergers Victoria members. However you are welcome to attend one meeting to try before joining. \n  Getting There:  If driving\, parking is easy.  On public transport\, take the Glen Waverley line train to Holmesglen Railway Station (0.70 km away) or Jordanville Railway station (1.30 km away). \n  This page is for booking places to this event only.\n\n  Contact Details:  For booking or payment inquiries - write to Emma at admin@aspergersvic.org.au or Gayle Vermont\, Groups Co-Ordinator\, groups@aspergersvic.org.au 0412 113 105.\n\n
DTSTAMP:20260424T161027Z
END:VEVENT
END:VCALENDAR
