BEGIN:VCALENDAR
VERSION:2.0
METHOD:PUBLISH
BEGIN:VEVENT
UID:WILD_APRICOT_EVENT_3311178_SESSION_1
DTSTART:20190404T230000Z
DTEND:20190405T010000Z
SUMMARY:Eastern Parents & Carers Peer Group Meeting
LOCATION:Salvation Army hall\, rear of 45-53 Wantirna Rd\, Ringwood Vic 3134
DESCRIPTION:https://aspergersvic.org.au/event-3311178\n\nEastern Parents & Carers Peer Group Meeting\n  \n\n  This group is a place for Parents\, Grandparents and Carers (of a person with Aspergers or Autism Spectrum Disorder Level 1) to meet\, share their experiences and support each other. \n  We have a range of parents who attend\, who have children of varying ages from toddlers through to young adults. The group is structured/facilitated to allow opportunity for all attendees to talk if they wish. \n  Some months are focused on a topic of interest. Attendance varies from month to month\, and it's great to talk to others who have been through similar challenges. \n
DTSTAMP:20260424T160136Z
END:VEVENT
END:VCALENDAR
