BEGIN:VCALENDAR
VERSION:2.0
METHOD:PUBLISH
BEGIN:VEVENT
UID:WILD_APRICOT_EVENT_3321730_SESSION_1
DTSTART:20190404T083000Z
DTEND:20190404T103000Z
SUMMARY:Partners Peer Group Meeting
LOCATION:Power Neighbourhood House\, 54 Power Ave\, Ashwood 3147
DESCRIPTION:https://aspergersvic.org.au/event-3321730\n\nPartners Peer Group Meeting\n  \n\n  This month we have our first meeting at our new home at Power Neighbourhood House in Ashwood.  \n  Our AV Partners Support Group Meetings are for adults who have (or have had) partners with Aspergers or on the autism spectrum.  Couples may be formally diagnosed or not\; co-habiting or not. \n  These meetings allow us to share experiences\, offer peer support & gain information.The group also often organises enjoyable in-house activities. \n  Getting There:  If driving\, free parking is available in surrounding streets.  By Public Trasport:  Take the train to Homesglen station and walk about 6 minutes to the venue. There is also a route 624 Oakleigh bus that stops right out the front of the house.  \nFor more information please contact partners@aspergersvic.org.au or our groups assistant at admin@aspergersvic.org.au
DTSTAMP:20260424T183156Z
END:VEVENT
END:VCALENDAR
