BEGIN:VCALENDAR
VERSION:2.0
METHOD:PUBLISH
BEGIN:VEVENT
UID:WILD_APRICOT_EVENT_3321773_SESSION_1
DTSTART:20190502T090000Z
DTEND:20190502T120000Z
SUMMARY:Young Adults Peer Group Meeting
LOCATION:Glow Golf Docklands\, Shop NW F05 First Floor\, 35 Star Cres\, Docklands
DESCRIPTION:https://aspergersvic.org.au/event-3321773\n\nYoung Adults Peer Group Meeting**DATE CHANGED***\n  Glow Mini Golf Night\n  \n\n  Come and join the Young Adults social group for a fun night of mini golf at GlowGolf Docklands.  See below for more location information. We will be having mini golf\, nibbles\, drinks\, games\, music and lots of fun.\n  Cost: $15 for AV Members\, $25 for Non-Members. Includes entry to the mini golf.  Please pay prior to attending with your registration. No cash on the night please\, registration is open until 6pm the day of the event\, but book as early as you can.\n  This event is for Young Adults who are between the ages of 18-35 years.  \n      *             This is a parent/carer-free zone. \n        \n\n        *             New attendees will be made to feel comfortable and welcome by our peer leaders so please let us know if you are new. \n        \n\n       What Happens on the Night? Aspergers Victoria volunteers with lived experience run the meetings and will welcome you and answer any question you may have (especially if you're new).  The group and leaders will commence the activity and encourage everyone to partcipate and chat if they wish to. \n   This group is for Aspergers Victoria members. However you are welcome to attend one meeting to try before joining. \n  Getting There:  GlowGolf is located at Shop NW F05 First Floor\, 35 Star Cres\, Docklands\, in The District Docklands Shopping Centre.  It is Opposite Artvo and next door to Dialogue in the Dark  If driving\, paid car parks can be found in the area (allow extra time)  On public transport\, take a train to the city e.g. Southern Cross (Marvel Stadium exit)  then a tram down to the District Docklands Shopping Centre. Depending on the tram taken will decide which station to jump off at!   \n  This page is for booking places to this event only.\n\n  Contact Details:  For booking or payment inquiries - write to Emma at admin@aspergersvic.org.au or Gayle Vermont\, Groups Co-Ordinator\, groups@aspergersvic.org.au 0412 113 105.\n\n
DTSTAMP:20260424T160035Z
END:VEVENT
END:VCALENDAR
